{"text_format":"1","workbook":"xlsx","n_sheets":2,"sheets":["Spielbericht","Beamer"],"not_rendered":{"charts":0,"images":1,"macros":1,"external_links":0,"defined_names":0,"comments":0,"pivot_tables":0},"unopened":[],"bounds":{"document_bytes":16777216,"sheet_cells":100000,"rows_first":2000,"rows_last":500,"rows_between":2000,"halvings":0,"cell_chars":16384,"cell_head_chars":4096},"cells_cut":0,"cells_raw":0,"read":"whole","date_system":"1900"}

{"sheet":"Spielbericht","index":0,"n_rows":76,"n_cols":17,"rows_kept":76,"cut":false,"hidden":false,"merged":[[73,1,73,4],[73,5,73,7],[73,9,73,12],[73,13,73,15],[60,13,60,14],[60,15,60,16],[64,1,64,3],[64,4,64,16],[66,1,66,16],[68,1,68,16],[56,1,56,3],[56,5,56,7],[56,9,56,11],[56,13,56,15],[60,1,60,2],[60,3,60,4],[60,5,60,6],[60,7,60,8],[60,9,60,10],[60,11,60,12],[51,2,51,4],[51,6,51,8],[51,10,51,12],[51,14,51,16],[54,1,54,3],[54,5,54,7],[54,9,54,11],[54,13,54,15],[47,1,47,2],[47,5,47,6],[47,9,47,10],[47,13,47,14],[49,2,49,4],[49,6,49,8],[49,10,49,12],[49,14,49,16],[44,1,44,2],[44,5,44,6],[44,9,44,10],[44,13,44,14],[45,1,45,2],[45,5,45,6],[45,9,45,10],[45,13,45,14],[42,1,42,2],[42,5,42,6],[42,9,42,10],[42,13,42,14],[43,1,43,2],[43,5,43,6],[43,9,43,10],[43,13,43,14],[40,2,40,4],[40,6,40,8],[40,10,40,12],[40,14,40,16],[41,2,41,4],[41,6,41,8],[41,10,41,12],[41,14,41,16],[36,1,36,2],[36,5,36,6],[36,9,36,10],[36,13,36,14],[38,1,38,2],[38,5,38,6],[38,9,38,10],[38,13,38,14],[34,1,34,2],[34,5,34,6],[34,9,34,10],[34,13,34,14],[35,1,35,2],[35,5,35,6],[35,9,35,10],[35,13,35,14],[32,2,32,4],[32,6,32,8],[32,10,32,12],[32,14,32,16],[33,1,33,2],[33,5,33,6],[33,9,33,10],[33,13,33,14],[29,1,29,2],[29,5,29,6],[29,9,29,10],[29,13,29,14],[31,2,31,4],[31,6,31,8],[31,10,31,12],[31,14,31,16],[26,1,26,2],[26,5,26,6],[26,9,26,10],[26,13,26,14],[27,1,27,2],[27,5,27,6],[27,9,27,10],[27,13,27,14],[24,1,24,2],[24,5,24,6],[24,9,24,10],[24,13,24,14],[25,1,25,2],[25,5,25,6],[25,9,25,10],[25,13,25,14],[22,2,22,4],[22,6,22,8],[22,10,22,12],[22,14,22,16],[23,2,23,4],[23,6,23,8],[23,10,23,12],[23,14,23,16],[18,1,18,2],[18,5,18,6],[18,9,18,10],[18,13,18,14],[20,1,20,2],[20,5,20,6],[20,9,20,10],[20,13,20,14],[16,1,16,2],[16,5,16,6],[16,9,16,10],[16,13,16,14],[17,1,17,2],[17,5,17,6],[17,9,17,10],[17,13,17,14],[14,2,14,4],[14,6,14,8],[14,10,14,12],[14,14,14,16],[15,1,15,2],[15,5,15,6],[15,9,15,10],[15,13,15,14],[11,13,11,14],[12,2,12,4],[12,6,12,8],[12,10,12,12],[12,14,12,16],[13,2,13,4],[13,6,13,8],[13,10,13,12],[13,14,13,16],[9,1,9,2],[9,9,9,10],[9,11,9,12],[11,1,11,2],[11,5,11,6],[11,9,11,10],[1,5,1,12],[5,1,5,2],[5,3,5,7],[5,9,5,10],[5,11,5,12],[7,1,7,2],[7,3,7,7],[7,9,7,10],[7,11,7,14]]}
[]
[null,null,null,null,null,"SKVS POKAL - SPIELBERICHT"]
[]
[null,"Frauen",null,null,null,null,null,null,null,"Männer"]
[]
[null,"Spielort:",null,null,null,null,null,null,null,"Datum:"]
[]
[null,"Spielleiter:",null,null,null,null,null,null,null,"Schiedsrichter:",null,null,null,null,null,"SB:"]
[]
[null,"Verletzungen:",null,null,null,null,null,null,null,"Einsprüche:"]
[]
[null,"Kegel",null,"Punkte","Total","Kegel",null,"Punkte","Total","Kegel",null,"Punkte","Total","Kegel",null,"Punkte","Total"]
[null,"Club:",null,null,null,"Club:",null,null,null,"Club:",null,null,null,"Club:"]
[null,"Name:",null,null,null,"Name:",null,null,null,"Name:",null,null,null,"Name:"]
[null,"Pass-Nr:",null,null,null,"Pass-Nr:",null,null,null,"Pass-Nr:",null,null,null,"Pass-Nr:"]
[null,null,null,{"$f":"IF(B16=0,\" \",IF(LARGE((B16,F16,J16,N16),1)=B16,4,IF(LARGE((B16,F16,J16,N16),2)=B16,3,IF(LARGE((B16,F16,J16,N16),3)=B16,2,IF(LARGE((B16,F16,J16,N16),4)=B16,1)))))","v":" "},{"$f":"IF(B16=0,\" \",0+D16)","v":" "},null,null,{"$f":"IF(F16=0,\" \",IF(LARGE((B16,F16,J16,N16),1)=F16,4,IF(LARGE((B16,F16,J16,N16),2)=F16,3,IF(LARGE((B16,F16,J16,N16),3)=F16,2,IF(LARGE((B16,F16,J16,N16),4)=F16,1)))))","v":" "},{"$f":"IF(F16=0,\" \",0+H16)","v":" "},null,null,{"$f":"IF(J16=0,\" \",IF(LARGE((B16,F16,J16,N16),1)=J16,4,IF(LARGE((B16,F16,J16,N16),2)=J16,3,IF(LARGE((B16,F16,J16,N16),3)=J16,2,IF(LARGE((B16,F16,J16,N16),4)=J16,1)))))","v":" "},{"$f":"IF(J16=0,\" \",0+L16)","v":" "},null,null,{"$f":"IF(N16=0,\" \",IF(LARGE((B16,F16,J16,N16),1)=N16,4,IF(LARGE((B16,F16,J16,N16),2)=N16,3,IF(LARGE((B16,F16,J16,N16),3)=N16,2,IF(LARGE((B16,F16,J16,N16),4)=N16,1)))))","v":" "},{"$f":"IF(N16=0,\" \",0+P16)","v":" "}]
[null,null,null,{"$f":"IF(B17=0,\" \",IF(LARGE((B17,F17,J17,N17),1)=B17,4,IF(LARGE((B17,F17,J17,N17),2)=B17,3,IF(LARGE((B17,F17,J17,N17),3)=B17,2,IF(LARGE((B17,F17,J17,N17),4)=B17,1)))))","v":" "},{"$f":"IF(B17=0,\" \",E16+D17)","v":" "},null,null,{"$f":"IF(F17=0,\" \",IF(LARGE((B17,F17,J17,N17),1)=F17,4,IF(LARGE((B17,F17,J17,N17),2)=F17,3,IF(LARGE((B17,F17,J17,N17),3)=F17,2,IF(LARGE((B17,F17,J17,N17),4)=F17,1)))))","v":" "},{"$f":"IF(F17=0,\" \",I16+H17)","v":" "},null,null,{"$f":"IF(J17=0,\" \",IF(LARGE((B17,F17,J17,N17),1)=J17,4,IF(LARGE((B17,F17,J17,N17),2)=J17,3,IF(LARGE((B17,F17,J17,N17),3)=J17,2,IF(LARGE((B17,F17,J17,N17),4)=J17,1)))))","v":" "},{"$f":"IF(J17=0,\" \",M16+L17)","v":" "},null,null,{"$f":"IF(N17=0,\" \",IF(LARGE((B17,F17,J17,N17),1)=N17,4,IF(LARGE((B17,F17,J17,N17),2)=N17,3,IF(LARGE((B17,F17,J17,N17),3)=N17,2,IF(LARGE((B17,F17,J17,N17),4)=N17,1)))))","v":" "},{"$f":"IF(N17=0,\" \",Q16+P17)","v":" "}]
[null,null,null,{"$f":"IF(B18=0,\" \",IF(LARGE((B18,F18,J18,N18),1)=B18,4,IF(LARGE((B18,F18,J18,N18),2)=B18,3,IF(LARGE((B18,F18,J18,N18),3)=B18,2,IF(LARGE((B18,F18,J18,N18),4)=B18,1)))))","v":" "},{"$f":"IF(B18=0,\" \",E17+D18)","v":" "},null,null,{"$f":"IF(F18=0,\" \",IF(LARGE((B18,F18,J18,N18),1)=F18,4,IF(LARGE((B18,F18,J18,N18),2)=F18,3,IF(LARGE((B18,F18,J18,N18),3)=F18,2,IF(LARGE((B18,F18,J18,N18),4)=F18,1)))))","v":" "},{"$f":"IF(F18=0,\" \",I17+H18)","v":" "},null,null,{"$f":"IF(J18=0,\" \",IF(LARGE((B18,F18,J18,N18),1)=J18,4,IF(LARGE((B18,F18,J18,N18),2)=J18,3,IF(LARGE((B18,F18,J18,N18),3)=J18,2,IF(LARGE((B18,F18,J18,N18),4)=J18,1)))))","v":" "},{"$f":"IF(J18=0,\" \",M17+L18)","v":" "},null,null,{"$f":"IF(N18=0,\" \",IF(LARGE((B18,F18,J18,N18),1)=N18,4,IF(LARGE((B18,F18,J18,N18),2)=N18,3,IF(LARGE((B18,F18,J18,N18),3)=N18,2,IF(LARGE((B18,F18,J18,N18),4)=N18,1)))))","v":" "},{"$f":"IF(N18=0,\" \",Q17+P18)","v":" "}]
[null,null,null,{"$f":"IF(B19=0,\" \",IF(LARGE((B19,F19,J19,N19),1)=B19,4,IF(LARGE((B19,F19,J19,N19),2)=B19,3,IF(LARGE((B19,F19,J19,N19),3)=B19,2,IF(LARGE((B19,F19,J19,N19),4)=B19,1)))))","v":" "},{"$f":"IF(B19=0,\" \",E18+D19)","v":" "},null,null,{"$f":"IF(F19=0,\" \",IF(LARGE((B19,F19,J19,N19),1)=F19,4,IF(LARGE((B19,F19,J19,N19),2)=F19,3,IF(LARGE((B19,F19,J19,N19),3)=F19,2,IF(LARGE((B19,F19,J19,N19),4)=F19,1)))))","v":" "},{"$f":"IF(F19=0,\" \",I18+H19)","v":" "},null,null,{"$f":"IF(J19=0,\" \",IF(LARGE((B19,F19,J19,N19),1)=J19,4,IF(LARGE((B19,F19,J19,N19),2)=J19,3,IF(LARGE((B19,F19,J19,N19),3)=J19,2,IF(LARGE((B19,F19,J19,N19),4)=J19,1)))))","v":" "},{"$f":"IF(J19=0,\" \",M18+L19)","v":" "},null,null,{"$f":"IF(N19=0,\" \",IF(LARGE((B19,F19,J19,N19),1)=N19,4,IF(LARGE((B19,F19,J19,N19),2)=N19,3,IF(LARGE((B19,F19,J19,N19),3)=N19,2,IF(LARGE((B19,F19,J19,N19),4)=N19,1)))))","v":" "},{"$f":"IF(N19=0,\" \",Q18+P19)","v":" "}]
[]
[null,{"$f":"SUM(B16:C19)","v":0},null,{"$f":"SUM(D16:D19)","v":0},null,{"$f":"SUM(F16:G19)","v":0},null,{"$f":"SUM(H16:H19)","v":0},null,{"$f":"SUM(J16:K19)","v":0},null,{"$f":"SUM(L16:L19)","v":0},null,{"$f":"SUM(N16:O19)","v":0},null,{"$f":"SUM(P16:P19)","v":0}]
[]
[null,"Name:",null,null,null,"Name:",null,null,null,"Name:",null,null,null,"Name:"]
[null,"Pass-Nr:",null,null,null,"Pass-Nr:",null,null,null,"Pass-Nr:",null,null,null,"Pass-Nr:"]
[null,null,null,{"$f":"IF(B25=0,\" \",IF(LARGE((B25,F25,J25,N25),1)=B25,4,IF(LARGE((B25,F25,J25,N25),2)=B25,3,IF(LARGE((B25,F25,J25,N25),3)=B25,2,IF(LARGE((B25,F25,J25,N25),4)=B25,1)))))","v":" "},{"$f":"IF(B25=0,\" \",E19+D25)","v":" "},null,null,{"$f":"IF(F25=0,\" \",IF(LARGE((B25,F25,J25,N25),1)=F25,4,IF(LARGE((B25,F25,J25,N25),2)=F25,3,IF(LARGE((B25,F25,J25,N25),3)=F25,2,IF(LARGE((B25,F25,J25,N25),4)=F25,1)))))","v":" "},{"$f":"IF(F25=0,\" \",I19+H25)","v":" "},null,null,{"$f":"IF(J25=0,\" \",IF(LARGE((B25,F25,J25,N25),1)=J25,4,IF(LARGE((B25,F25,J25,N25),2)=J25,3,IF(LARGE((B25,F25,J25,N25),3)=J25,2,IF(LARGE((B25,F25,J25,N25),4)=J25,1)))))","v":" "},{"$f":"IF(J25=0,\" \",M19+L25)","v":" "},null,null,{"$f":"IF(N25=0,\" \",IF(LARGE((B25,F25,J25,N25),1)=N25,4,IF(LARGE((B25,F25,J25,N25),2)=N25,3,IF(LARGE((B25,F25,J25,N25),3)=N25,2,IF(LARGE((B25,F25,J25,N25),4)=N25,1)))))","v":" "},{"$f":"IF(N25=0,\" \",Q19+P25)","v":" "}]
[null,null,null,{"$f":"IF(B26=0,\" \",IF(LARGE((B26,F26,J26,N26),1)=B26,4,IF(LARGE((B26,F26,J26,N26),2)=B26,3,IF(LARGE((B26,F26,J26,N26),3)=B26,2,IF(LARGE((B26,F26,J26,N26),4)=B26,1)))))","v":" "},{"$f":"IF(B26=0,\" \",E25+D26)","v":" "},null,null,{"$f":"IF(F26=0,\" \",IF(LARGE((B26,F26,J26,N26),1)=F26,4,IF(LARGE((B26,F26,J26,N26),2)=F26,3,IF(LARGE((B26,F26,J26,N26),3)=F26,2,IF(LARGE((B26,F26,J26,N26),4)=F26,1)))))","v":" "},{"$f":"IF(F26=0,\" \",I25+H26)","v":" "},null,null,{"$f":"IF(J26=0,\" \",IF(LARGE((B26,F26,J26,N26),1)=J26,4,IF(LARGE((B26,F26,J26,N26),2)=J26,3,IF(LARGE((B26,F26,J26,N26),3)=J26,2,IF(LARGE((B26,F26,J26,N26),4)=J26,1)))))","v":" "},{"$f":"IF(J26=0,\" \",M25+L26)","v":" "},null,null,{"$f":"IF(N26=0,\" \",IF(LARGE((B26,F26,J26,N26),1)=N26,4,IF(LARGE((B26,F26,J26,N26),2)=N26,3,IF(LARGE((B26,F26,J26,N26),3)=N26,2,IF(LARGE((B26,F26,J26,N26),4)=N26,1)))))","v":" "},{"$f":"IF(N26=0,\" \",Q25+P26)","v":" "}]
[null,null,null,{"$f":"IF(B27=0,\" \",IF(LARGE((B27,F27,J27,N27),1)=B27,4,IF(LARGE((B27,F27,J27,N27),2)=B27,3,IF(LARGE((B27,F27,J27,N27),3)=B27,2,IF(LARGE((B27,F27,J27,N27),4)=B27,1)))))","v":" "},{"$f":"IF(B27=0,\" \",E26+D27)","v":" "},null,null,{"$f":"IF(F27=0,\" \",IF(LARGE((B27,F27,J27,N27),1)=F27,4,IF(LARGE((B27,F27,J27,N27),2)=F27,3,IF(LARGE((B27,F27,J27,N27),3)=F27,2,IF(LARGE((B27,F27,J27,N27),4)=F27,1)))))","v":" "},{"$f":"IF(F27=0,\" \",I26+H27)","v":" "},null,null,{"$f":"IF(J27=0,\" \",IF(LARGE((B27,F27,J27,N27),1)=J27,4,IF(LARGE((B27,F27,J27,N27),2)=J27,3,IF(LARGE((B27,F27,J27,N27),3)=J27,2,IF(LARGE((B27,F27,J27,N27),4)=J27,1)))))","v":" "},{"$f":"IF(J27=0,\" \",M26+L27)","v":" "},null,null,{"$f":"IF(N27=0,\" \",IF(LARGE((B27,F27,J27,N27),1)=N27,4,IF(LARGE((B27,F27,J27,N27),2)=N27,3,IF(LARGE((B27,F27,J27,N27),3)=N27,2,IF(LARGE((B27,F27,J27,N27),4)=N27,1)))))","v":" "},{"$f":"IF(N27=0,\" \",Q26+P27)","v":" "}]
[null,null,null,{"$f":"IF(B28=0,\" \",IF(LARGE((B28,F28,J28,N28),1)=B28,4,IF(LARGE((B28,F28,J28,N28),2)=B28,3,IF(LARGE((B28,F28,J28,N28),3)=B28,2,IF(LARGE((B28,F28,J28,N28),4)=B28,1)))))","v":" "},{"$f":"IF(B28=0,\" \",E27+D28)","v":" "},null,null,{"$f":"IF(F28=0,\" \",IF(LARGE((B28,F28,J28,N28),1)=F28,4,IF(LARGE((B28,F28,J28,N28),2)=F28,3,IF(LARGE((B28,F28,J28,N28),3)=F28,2,IF(LARGE((B28,F28,J28,N28),4)=F28,1)))))","v":" "},{"$f":"IF(F28=0,\" \",I27+H28)","v":" "},null,null,{"$f":"IF(J28=0,\" \",IF(LARGE((B28,F28,J28,N28),1)=J28,4,IF(LARGE((B28,F28,J28,N28),2)=J28,3,IF(LARGE((B28,F28,J28,N28),3)=J28,2,IF(LARGE((B28,F28,J28,N28),4)=J28,1)))))","v":" "},{"$f":"IF(J28=0,\" \",M27+L28)","v":" "},null,null,{"$f":"IF(N28=0,\" \",IF(LARGE((B28,F28,J28,N28),1)=N28,4,IF(LARGE((B28,F28,J28,N28),2)=N28,3,IF(LARGE((B28,F28,J28,N28),3)=N28,2,IF(LARGE((B28,F28,J28,N28),4)=N28,1)))))","v":" "},{"$f":"IF(N28=0,\" \",Q27+P28)","v":" "}]
[]
[null,{"$f":"SUM(B25:C28)","v":0},null,{"$f":"SUM(D25:D28)","v":0},null,{"$f":"SUM(F25:G28)","v":0},null,{"$f":"SUM(H25:H28)","v":0},null,{"$f":"SUM(J25:K28)","v":0},null,{"$f":"SUM(L25:L28)","v":0},null,{"$f":"SUM(N25:O28)","v":0},null,{"$f":"SUM(P25:P28)","v":0}]
[]
[null,"Name:",null,null,null,"Name:",null,null,null,"Name:",null,null,null,"Name:"]
[null,"Pass-Nr:",null,null,null,"Pass-Nr:",null,null,null,"Pass-Nr:",null,null,null,"Pass-Nr:"]
[null,null,null,{"$f":"IF(B34=0,\" \",IF(LARGE((B34,F34,J34,N34),1)=B34,4,IF(LARGE((B34,F34,J34,N34),2)=B34,3,IF(LARGE((B34,F34,J34,N34),3)=B34,2,IF(LARGE((B34,F34,J34,N34),4)=B34,1)))))","v":" "},{"$f":"IF(B34=0,\" \",E28+D34)","v":" "},null,null,{"$f":"IF(F34=0,\" \",IF(LARGE((B34,F34,J34,N34),1)=F34,4,IF(LARGE((B34,F34,J34,N34),2)=F34,3,IF(LARGE((B34,F34,J34,N34),3)=F34,2,IF(LARGE((B34,F34,J34,N34),4)=F34,1)))))","v":" "},{"$f":"IF(F34=0,\" \",I28+H34)","v":" "},null,null,{"$f":"IF(J34=0,\" \",IF(LARGE((B34,F34,J34,N34),1)=J34,4,IF(LARGE((B34,F34,J34,N34),2)=J34,3,IF(LARGE((B34,F34,J34,N34),3)=J34,2,IF(LARGE((B34,F34,J34,N34),4)=J34,1)))))","v":" "},{"$f":"IF(J34=0,\" \",M28+L34)","v":" "},null,null,{"$f":"IF(N34=0,\" \",IF(LARGE((B34,F34,J34,N34),1)=N34,4,IF(LARGE((B34,F34,J34,N34),2)=N34,3,IF(LARGE((B34,F34,J34,N34),3)=N34,2,IF(LARGE((B34,F34,J34,N34),4)=N34,1)))))","v":" "},{"$f":"IF(N34=0,\" \",Q28+P34)","v":" "}]
[null,null,null,{"$f":"IF(B35=0,\" \",IF(LARGE((B35,F35,J35,N35),1)=B35,4,IF(LARGE((B35,F35,J35,N35),2)=B35,3,IF(LARGE((B35,F35,J35,N35),3)=B35,2,IF(LARGE((B35,F35,J35,N35),4)=B35,1)))))","v":" "},{"$f":"IF(B35=0,\" \",E34+D35)","v":" "},null,null,{"$f":"IF(F35=0,\" \",IF(LARGE((B35,F35,J35,N35),1)=F35,4,IF(LARGE((B35,F35,J35,N35),2)=F35,3,IF(LARGE((B35,F35,J35,N35),3)=F35,2,IF(LARGE((B35,F35,J35,N35),4)=F35,1)))))","v":" "},{"$f":"IF(F35=0,\" \",I34+H35)","v":" "},null,null,{"$f":"IF(J35=0,\" \",IF(LARGE((B35,F35,J35,N35),1)=J35,4,IF(LARGE((B35,F35,J35,N35),2)=J35,3,IF(LARGE((B35,F35,J35,N35),3)=J35,2,IF(LARGE((B35,F35,J35,N35),4)=J35,1)))))","v":" "},{"$f":"IF(J35=0,\" \",M34+L35)","v":" "},null,null,{"$f":"IF(N35=0,\" \",IF(LARGE((B35,F35,J35,N35),1)=N35,4,IF(LARGE((B35,F35,J35,N35),2)=N35,3,IF(LARGE((B35,F35,J35,N35),3)=N35,2,IF(LARGE((B35,F35,J35,N35),4)=N35,1)))))","v":" "},{"$f":"IF(N35=0,\" \",Q34+P35)","v":" "}]
[null,null,null,{"$f":"IF(B36=0,\" \",IF(LARGE((B36,F36,J36,N36),1)=B36,4,IF(LARGE((B36,F36,J36,N36),2)=B36,3,IF(LARGE((B36,F36,J36,N36),3)=B36,2,IF(LARGE((B36,F36,J36,N36),4)=B36,1)))))","v":" "},{"$f":"IF(B36=0,\" \",E35+D36)","v":" "},null,null,{"$f":"IF(F36=0,\" \",IF(LARGE((B36,F36,J36,N36),1)=F36,4,IF(LARGE((B36,F36,J36,N36),2)=F36,3,IF(LARGE((B36,F36,J36,N36),3)=F36,2,IF(LARGE((B36,F36,J36,N36),4)=F36,1)))))","v":" "},{"$f":"IF(F36=0,\" \",I35+H36)","v":" "},null,null,{"$f":"IF(J36=0,\" \",IF(LARGE((B36,F36,J36,N36),1)=J36,4,IF(LARGE((B36,F36,J36,N36),2)=J36,3,IF(LARGE((B36,F36,J36,N36),3)=J36,2,IF(LARGE((B36,F36,J36,N36),4)=J36,1)))))","v":" "},{"$f":"IF(J36=0,\" \",M35+L36)","v":" "},null,null,{"$f":"IF(N36=0,\" \",IF(LARGE((B36,F36,J36,N36),1)=N36,4,IF(LARGE((B36,F36,J36,N36),2)=N36,3,IF(LARGE((B36,F36,J36,N36),3)=N36,2,IF(LARGE((B36,F36,J36,N36),4)=N36,1)))))","v":" "},{"$f":"IF(N36=0,\" \",Q35+P36)","v":" "}]
[null,null,null,{"$f":"IF(B37=0,\" \",IF(LARGE((B37,F37,J37,N37),1)=B37,4,IF(LARGE((B37,F37,J37,N37),2)=B37,3,IF(LARGE((B37,F37,J37,N37),3)=B37,2,IF(LARGE((B37,F37,J37,N37),4)=B37,1)))))","v":" "},{"$f":"IF(B37=0,\" \",E36+D37)","v":" "},null,null,{"$f":"IF(F37=0,\" \",IF(LARGE((B37,F37,J37,N37),1)=F37,4,IF(LARGE((B37,F37,J37,N37),2)=F37,3,IF(LARGE((B37,F37,J37,N37),3)=F37,2,IF(LARGE((B37,F37,J37,N37),4)=F37,1)))))","v":" "},{"$f":"IF(F37=0,\" \",I36+H37)","v":" "},null,null,{"$f":"IF(J37=0,\" \",IF(LARGE((B37,F37,J37,N37),1)=J37,4,IF(LARGE((B37,F37,J37,N37),2)=J37,3,IF(LARGE((B37,F37,J37,N37),3)=J37,2,IF(LARGE((B37,F37,J37,N37),4)=J37,1)))))","v":" "},{"$f":"IF(J37=0,\" \",M36+L37)","v":" "},null,null,{"$f":"IF(N37=0,\" \",IF(LARGE((B37,F37,J37,N37),1)=N37,4,IF(LARGE((B37,F37,J37,N37),2)=N37,3,IF(LARGE((B37,F37,J37,N37),3)=N37,2,IF(LARGE((B37,F37,J37,N37),4)=N37,1)))))","v":" "},{"$f":"IF(N37=0,\" \",Q36+P37)","v":" "}]
[]
[null,{"$f":"SUM(B34:C37)","v":0},null,{"$f":"SUM(D34:D37)","v":0},null,{"$f":"SUM(F34:G37)","v":0},null,{"$f":"SUM(H34:H37)","v":0},null,{"$f":"SUM(J34:K37)","v":0},null,{"$f":"SUM(L34:L37)","v":0},null,{"$f":"SUM(N34:O37)","v":0},null,{"$f":"SUM(P34:P37)","v":0}]
[]
[null,"Name:",null,null,null,"Name:",null,null,null,"Name:",null,null,null,"Name:"]
[null,"Pass-Nr:",null,null,null,"Pass-Nr:",null,null,null,"Pass-Nr:",null,null,null,"Pass-Nr:"]
[null,null,null,{"$f":"IF(B43=0,\" \",IF(LARGE((B43,F43,J43,N43),1)=B43,4,IF(LARGE((B43,F43,J43,N43),2)=B43,3,IF(LARGE((B43,F43,J43,N43),3)=B43,2,IF(LARGE((B43,F43,J43,N43),4)=B43,1)))))","v":" "},{"$f":"IF(B43=0,\" \",E37+D43)","v":" "},null,null,{"$f":"IF(F43=0,\" \",IF(LARGE((B43,F43,J43,N43),1)=F43,4,IF(LARGE((B43,F43,J43,N43),2)=F43,3,IF(LARGE((B43,F43,J43,N43),3)=F43,2,IF(LARGE((B43,F43,J43,N43),4)=F43,1)))))","v":" "},{"$f":"IF(F43=0,\" \",I37+H43)","v":" "},null,null,{"$f":"IF(J43=0,\" \",IF(LARGE((B43,F43,J43,N43),1)=J43,4,IF(LARGE((B43,F43,J43,N43),2)=J43,3,IF(LARGE((B43,F43,J43,N43),3)=J43,2,IF(LARGE((B43,F43,J43,N43),4)=J43,1)))))","v":" "},{"$f":"IF(J43=0,\" \",M37+L43)","v":" "},null,null,{"$f":"IF(N43=0,\" \",IF(LARGE((B43,F43,J43,N43),1)=N43,4,IF(LARGE((B43,F43,J43,N43),2)=N43,3,IF(LARGE((B43,F43,J43,N43),3)=N43,2,IF(LARGE((B43,F43,J43,N43),4)=N43,1)))))","v":" "},{"$f":"IF(N43=0,\" \",Q37+P43)","v":" "}]
[null,null,null,{"$f":"IF(B44=0,\" \",IF(LARGE((B44,F44,J44,N44),1)=B44,4,IF(LARGE((B44,F44,J44,N44),2)=B44,3,IF(LARGE((B44,F44,J44,N44),3)=B44,2,IF(LARGE((B44,F44,J44,N44),4)=B44,1)))))","v":" "},{"$f":"IF(B44=0,\" \",E43+D44)","v":" "},null,null,{"$f":"IF(F44=0,\" \",IF(LARGE((B44,F44,J44,N44),1)=F44,4,IF(LARGE((B44,F44,J44,N44),2)=F44,3,IF(LARGE((B44,F44,J44,N44),3)=F44,2,IF(LARGE((B44,F44,J44,N44),4)=F44,1)))))","v":" "},{"$f":"IF(F44=0,\" \",I43+H44)","v":" "},null,null,{"$f":"IF(J44=0,\" \",IF(LARGE((B44,F44,J44,N44),1)=J44,4,IF(LARGE((B44,F44,J44,N44),2)=J44,3,IF(LARGE((B44,F44,J44,N44),3)=J44,2,IF(LARGE((B44,F44,J44,N44),4)=J44,1)))))","v":" "},{"$f":"IF(J44=0,\" \",M43+L44)","v":" "},null,null,{"$f":"IF(N44=0,\" \",IF(LARGE((B44,F44,J44,N44),1)=N44,4,IF(LARGE((B44,F44,J44,N44),2)=N44,3,IF(LARGE((B44,F44,J44,N44),3)=N44,2,IF(LARGE((B44,F44,J44,N44),4)=N44,1)))))","v":" "},{"$f":"IF(N44=0,\" \",Q43+P44)","v":" "}]
[null,null,null,{"$f":"IF(B45=0,\" \",IF(LARGE((B45,F45,J45,N45),1)=B45,4,IF(LARGE((B45,F45,J45,N45),2)=B45,3,IF(LARGE((B45,F45,J45,N45),3)=B45,2,IF(LARGE((B45,F45,J45,N45),4)=B45,1)))))","v":" "},{"$f":"IF(B45=0,\" \",E44+D45)","v":" "},null,null,{"$f":"IF(F45=0,\" \",IF(LARGE((B45,F45,J45,N45),1)=F45,4,IF(LARGE((B45,F45,J45,N45),2)=F45,3,IF(LARGE((B45,F45,J45,N45),3)=F45,2,IF(LARGE((B45,F45,J45,N45),4)=F45,1)))))","v":" "},{"$f":"IF(F45=0,\" \",I44+H45)","v":" "},null,null,{"$f":"IF(J45=0,\" \",IF(LARGE((B45,F45,J45,N45),1)=J45,4,IF(LARGE((B45,F45,J45,N45),2)=J45,3,IF(LARGE((B45,F45,J45,N45),3)=J45,2,IF(LARGE((B45,F45,J45,N45),4)=J45,1)))))","v":" "},{"$f":"IF(J45=0,\" \",M44+L45)","v":" "},null,null,{"$f":"IF(N45=0,\" \",IF(LARGE((B45,F45,J45,N45),1)=N45,4,IF(LARGE((B45,F45,J45,N45),2)=N45,3,IF(LARGE((B45,F45,J45,N45),3)=N45,2,IF(LARGE((B45,F45,J45,N45),4)=N45,1)))))","v":" "},{"$f":"IF(N45=0,\" \",Q44+P45)","v":" "}]
[null,null,null,{"$f":"IF(B46=0,\" \",IF(LARGE((B46,F46,J46,N46),1)=B46,4,IF(LARGE((B46,F46,J46,N46),2)=B46,3,IF(LARGE((B46,F46,J46,N46),3)=B46,2,IF(LARGE((B46,F46,J46,N46),4)=B46,1)))))","v":" "},{"$f":"IF(B46=0,\" \",E45+D46)","v":" "},null,null,{"$f":"IF(F46=0,\" \",IF(LARGE((B46,F46,J46,N46),1)=F46,4,IF(LARGE((B46,F46,J46,N46),2)=F46,3,IF(LARGE((B46,F46,J46,N46),3)=F46,2,IF(LARGE((B46,F46,J46,N46),4)=F46,1)))))","v":" "},{"$f":"IF(F46=0,\" \",I45+H46)","v":" "},null,null,{"$f":"IF(J46=0,\" \",IF(LARGE((B46,F46,J46,N46),1)=J46,4,IF(LARGE((B46,F46,J46,N46),2)=J46,3,IF(LARGE((B46,F46,J46,N46),3)=J46,2,IF(LARGE((B46,F46,J46,N46),4)=J46,1)))))","v":" "},{"$f":"IF(J46=0,\" \",M45+L46)","v":" "},null,null,{"$f":"IF(N46=0,\" \",IF(LARGE((B46,F46,J46,N46),1)=N46,4,IF(LARGE((B46,F46,J46,N46),2)=N46,3,IF(LARGE((B46,F46,J46,N46),3)=N46,2,IF(LARGE((B46,F46,J46,N46),4)=N46,1)))))","v":" "},{"$f":"IF(N46=0,\" \",Q45+P46)","v":" "}]
[]
[null,{"$f":"SUM(B43:C46)","v":0},null,{"$f":"SUM(D43:D46)","v":0},null,{"$f":"SUM(F43:G46)","v":0},null,{"$f":"SUM(H43:H46)","v":0},null,{"$f":"SUM(J43:K46)","v":0},null,{"$f":"SUM(L43:L46)","v":0},null,{"$f":"SUM(N43:O46)","v":0},null,{"$f":"SUM(P43:P46)","v":0}]
[]
[null,"Ersatz:",null,null,null,"Ersatz:",null,null,null,"Ersatz:",null,null,null,"Ersatz:"]
[]
[null,"Pass-Nr:",null,null,null,"Pass-Nr:",null,null,null,"Pass-Nr:",null,null,null,"Pass-Nr:"]
[]
[]
[null,"Gesamt Punkte:",null,null,{"$f":"SUM(D21+D30+D39+D48)","v":0},"Gesamt Punkte:",null,null,{"$f":"SUM(H21+H30+H39+H48)","v":0},"Gesamt Punkte:",null,null,{"$f":"SUM(L21+L30+L39+L48)","v":0},"Gesamt Punkte:",null,null,{"$f":"SUM(P21+P30+P39+P48)","v":0}]
[]
[null,"Gesamt Kegel:",null,null,{"$f":"SUM(B21+B30+B39+B48)","v":0},"Gesamt Kegel:",null,null,{"$f":"SUM(F21+F30+F39+F48)","v":0},"Gesamt Kegel:",null,null,{"$f":"SUM(J21+J30+J39+J48)","v":0},"Gesamt Kegel:",null,null,{"$f":"SUM(N21+N30+N39+N48)","v":0}]
[]
[]
[]
[null,"Unterschrift:",null,null,null,"Unterschrift:",null,null,null,"Unterschrift:",null,null,null,"Unterschrift:"]
[]
[]
[]
[null,"Bemerkungen:"]
[]
[]
[]
[]
[]
[]
[]
[]
[null,"Unterschrift Spielleiter:",null,null,null,{"$f":"D8","v":0},null,null,null,"Unterschrift Schiedsrichter:",null,null,null,{"$f":"L8","v":0}]
[]
[null,null,null,null,null,null,null,null,"Spielbericht bitte an : sport@skvs.de  senden!"]

{"sheet":"Beamer","index":1,"n_rows":25,"n_cols":23,"rows_kept":25,"cut":false,"hidden":false,"merged":[[2,0,2,2],[2,4,2,7],[2,9,2,12],[2,14,2,17],[2,19,2,22],[0,7,0,15],[5,9,5,10],[5,11,5,12],[5,14,5,15],[5,16,5,17],[5,19,5,20],[5,21,5,22],[3,0,3,1],[4,1,4,2],[5,0,6,1],[5,2,6,2],[5,4,5,5],[5,6,5,7],[6,4,6,5],[6,6,6,7],[8,14,8,17],[8,19,8,22],[9,0,9,1],[6,9,6,10],[6,11,6,12],[6,14,6,15],[6,16,6,17],[6,19,6,20],[6,21,6,22],[10,1,10,2],[11,0,12,1],[11,2,12,2],[11,4,11,5],[11,6,11,7],[11,9,11,10],[8,0,8,2],[8,4,8,7],[8,9,8,12],[12,16,12,17],[12,19,12,20],[12,21,12,22],[14,0,14,2],[14,4,14,7],[14,9,14,12],[14,14,14,17],[14,19,14,22],[11,11,11,12],[11,14,11,15],[11,16,11,17],[11,19,11,20],[11,21,11,22],[12,4,12,5],[12,6,12,7],[12,9,12,10],[12,11,12,12],[12,14,12,15],[17,9,17,10],[17,11,17,12],[17,14,17,15],[17,16,17,17],[17,19,17,20],[17,21,17,22],[15,0,15,1],[16,1,16,2],[17,0,18,1],[17,2,18,2],[17,4,17,5],[17,6,17,7],[18,4,18,5],[18,6,18,7],[20,14,20,17],[20,19,20,22],[21,0,21,1],[18,9,18,10],[18,11,18,12],[18,14,18,15],[18,16,18,17],[18,19,18,20],[18,21,18,22],[22,1,22,2],[23,0,24,1],[23,2,24,2],[23,4,23,5],[23,6,23,7],[23,9,23,10],[20,0,20,2],[20,4,20,7],[20,9,20,12],[24,16,24,17],[24,19,24,20],[24,21,24,22],[23,11,23,12],[23,14,23,15],[23,16,23,17],[23,19,23,20],[23,21,23,22],[24,4,24,5],[24,6,24,7],[24,9,24,10],[24,11,24,12],[24,14,24,15]]}
[null,null,null,null,null,null,null,"SKVS POKAL"]
[]
[{"$f":"IF(Spielbericht!C13=\"\",\"\",Spielbericht!C13)","v":""},null,null,{"$f":"IF(Spielbericht!C13=\"\",0,C4+B5/10000)","v":0},{"$f":"IF(Spielbericht!C14=\"\",\"\",Spielbericht!C14)","v":""},null,null,null,null,{"$f":"IF(Spielbericht!C23=\"\",\"\",Spielbericht!C23)","v":""},null,null,null,null,{"$f":"IF(Spielbericht!C32=\"\",\"\",Spielbericht!C32)","v":""},null,null,null,null,{"$f":"IF(Spielbericht!C41=\"\",\"\",Spielbericht!C41)","v":""}]
[{"$f":"IF(Spielbericht!$C$13=\"\",\"\",\"Punkte:\")","v":""},null,{"$f":"IF(Spielbericht!C13=\"\",\"\",SUM(G7,L7,Q7,V7))","v":""},null,{"$f":"IF(Spielbericht!B16=\"\",\"\",Spielbericht!B16)","v":""},{"$f":"IF(Spielbericht!B17=\"\",\"\",Spielbericht!B17)","v":""},{"$f":"IF(Spielbericht!B18=\"\",\"\",Spielbericht!B18)","v":""},{"$f":"IF(Spielbericht!B19=\"\",\"\",Spielbericht!B19)","v":""},null,{"$f":"IF(Spielbericht!B25=\"\",\"\",Spielbericht!B25)","v":""},{"$f":"IF(Spielbericht!B26=\"\",\"\",Spielbericht!B26)","v":""},{"$f":"IF(Spielbericht!B27=\"\",\"\",Spielbericht!B27)","v":""},{"$f":"IF(Spielbericht!B28=\"\",\"\",Spielbericht!B28)","v":""},null,{"$f":"IF(Spielbericht!B34=\"\",\"\",Spielbericht!B34)","v":""},{"$f":"IF(Spielbericht!B35=\"\",\"\",Spielbericht!B35)","v":""},{"$f":"IF(Spielbericht!B36=\"\",\"\",Spielbericht!B36)","v":""},{"$f":"IF(Spielbericht!B37=\"\",\"\",Spielbericht!B37)","v":""},null,{"$f":"IF(Spielbericht!B43=\"\",\"\",Spielbericht!B43)","v":""},{"$f":"IF(Spielbericht!B44=\"\",\"\",Spielbericht!B44)","v":""},{"$f":"IF(Spielbericht!B45=\"\",\"\",Spielbericht!B45)","v":""},{"$f":"IF(Spielbericht!B46=\"\",\"\",Spielbericht!B46)","v":""}]
[{"$f":"IF(Spielbericht!$C$13=\"\",\"\",\"Kegel:\")","v":""},{"$f":"IF(Spielbericht!C13=\"\",\"\",SUM(V6,Q6,L6,G6))","v":""},null,null,{"$f":"IF(Spielbericht!D16=\"\",\"\",Spielbericht!D16)","v":" "},{"$f":"IF(Spielbericht!D17=\"\",\"\",Spielbericht!D17)","v":" "},{"$f":"IF(Spielbericht!D18=\"\",\"\",Spielbericht!D18)","v":" "},{"$f":"IF(Spielbericht!D19=\"\",\"\",Spielbericht!D19)","v":" "},null,{"$f":"IF(Spielbericht!D25=\"\",\"\",Spielbericht!D25)","v":" "},{"$f":"IF(Spielbericht!D26=\"\",\"\",Spielbericht!D26)","v":" "},{"$f":"IF(Spielbericht!D27=\"\",\"\",Spielbericht!D27)","v":" "},{"$f":"IF(Spielbericht!D28=\"\",\"\",Spielbericht!D28)","v":" "},null,{"$f":"IF(Spielbericht!D34=\"\",\"\",Spielbericht!D34)","v":" "},{"$f":"IF(Spielbericht!D35=\"\",\"\",Spielbericht!D35)","v":" "},{"$f":"IF(Spielbericht!D36=\"\",\"\",Spielbericht!D36)","v":" "},{"$f":"IF(Spielbericht!D37=\"\",\"\",Spielbericht!D37)","v":" "},null,{"$f":"IF(Spielbericht!D43=\"\",\"\",Spielbericht!D43)","v":" "},{"$f":"IF(Spielbericht!D44=\"\",\"\",Spielbericht!D44)","v":" "},{"$f":"IF(Spielbericht!D45=\"\",\"\",Spielbericht!D45)","v":" "},{"$f":"IF(Spielbericht!D46=\"\",\"\",Spielbericht!D46)","v":" "}]
[{"$f":"IF(Spielbericht!C13=\"\",\"\",\"Platz\")","v":""},null,{"$f":"IF(Spielbericht!C13=\"\",\"\",RANK(D3,D3:D25,0))","v":""},null,{"$f":"IF(Spielbericht!$C$13=\"\",\"\",\"Kegel:\")","v":""},{"$f":"IF(Spielbericht!$C$13=\"\",\"\",\"Kegel:\")","v":""},{"$f":"IF(Spielbericht!$C$13=\"\",\"\",SUM(E4:H4))","v":""},null,null,{"$f":"IF(Spielbericht!$C$13=\"\",\"\",\"Kegel:\")","v":""},{"$f":"IF(Spielbericht!$C$13=\"\",\"\",\"Kegel:\")","v":""},{"$f":"IF(Spielbericht!$C$13=\"\",\"\",SUM(J4:M4))","v":""},null,null,{"$f":"IF(Spielbericht!$C$13=\"\",\"\",\"Kegel:\")","v":""},{"$f":"IF(Spielbericht!$C$13=\"\",\"\",\"Kegel:\")","v":""},{"$f":"IF(Spielbericht!$C$13=\"\",\"\",SUM(O4:R4))","v":""},null,null,{"$f":"IF(Spielbericht!$C$13=\"\",\"\",\"Kegel:\")","v":""},{"$f":"IF(Spielbericht!$C$13=\"\",\"\",\"Kegel:\")","v":""},{"$f":"IF(Spielbericht!$C$13=\"\",\"\",SUM(T4:W4))","v":""}]
[null,null,null,null,{"$f":"IF(Spielbericht!$C$13=\"\",\"\",\"Punkte:\")","v":""},null,{"$f":"IF(Spielbericht!$C$13=\"\",\"\",SUM(E5:H5))","v":""},null,null,{"$f":"IF(Spielbericht!$C$13=\"\",\"\",\"Punkte:\")","v":""},null,{"$f":"IF(Spielbericht!$C$13=\"\",\"\",SUM(J5:M5))","v":""},null,null,{"$f":"IF(Spielbericht!$C$13=\"\",\"\",\"Punkte:\")","v":""},null,{"$f":"IF(Spielbericht!$C$13=\"\",\"\",SUM(O5:R5))","v":""},null,null,{"$f":"IF(Spielbericht!$C$13=\"\",\"\",\"Punkte:\")","v":""},null,{"$f":"IF(Spielbericht!$C$13=\"\",\"\",SUM(T5:W5))","v":""}]
[]
[{"$f":"IF(Spielbericht!G13=\"\",\"\",Spielbericht!G13)","v":""},null,null,{"$f":"IF(Spielbericht!G13=\"\",0,C10+B11/10000)","v":0},{"$f":"IF(Spielbericht!G14=\"\",\"\",Spielbericht!G14)","v":""},null,null,null,null,{"$f":"IF(Spielbericht!G23=\"\",\"\",Spielbericht!G23)","v":""},null,null,null,null,{"$f":"IF(Spielbericht!G32=\"\",\"\",Spielbericht!G32)","v":""},null,null,null,null,{"$f":"IF(Spielbericht!G41=\"\",\"\",Spielbericht!G41)","v":""}]
[{"$f":"IF(Spielbericht!$G$13=\"\",\"\",\"Punkte:\")","v":""},null,{"$f":"IF(Spielbericht!G13=\"\",\"\",SUM(G13,L13,Q13,V13))","v":""},null,{"$f":"IF(Spielbericht!F16=\"\",\"\",Spielbericht!F16)","v":""},{"$f":"IF(Spielbericht!F17=\"\",\"\",Spielbericht!F17)","v":""},{"$f":"IF(Spielbericht!F18=\"\",\"\",Spielbericht!F18)","v":""},{"$f":"IF(Spielbericht!F19=\"\",\"\",Spielbericht!F19)","v":""},null,{"$f":"IF(Spielbericht!F25=\"\",\"\",Spielbericht!F25)","v":""},{"$f":"IF(Spielbericht!F26=\"\",\"\",Spielbericht!F26)","v":""},{"$f":"IF(Spielbericht!F27=\"\",\"\",Spielbericht!F27)","v":""},{"$f":"IF(Spielbericht!F28=\"\",\"\",Spielbericht!F28)","v":""},null,{"$f":"IF(Spielbericht!F34=\"\",\"\",Spielbericht!F34)","v":""},{"$f":"IF(Spielbericht!F35=\"\",\"\",Spielbericht!F35)","v":""},{"$f":"IF(Spielbericht!F36=\"\",\"\",Spielbericht!F36)","v":""},{"$f":"IF(Spielbericht!F37=\"\",\"\",Spielbericht!F37)","v":""},null,{"$f":"IF(Spielbericht!F43=\"\",\"\",Spielbericht!F43)","v":""},{"$f":"IF(Spielbericht!F44=\"\",\"\",Spielbericht!F44)","v":""},{"$f":"IF(Spielbericht!F45=\"\",\"\",Spielbericht!F45)","v":""},{"$f":"IF(Spielbericht!F46=\"\",\"\",Spielbericht!F46)","v":""}]
[{"$f":"IF(Spielbericht!$G$13=\"\",\"\",\"Kegel:\")","v":""},{"$f":"IF(Spielbericht!G13=\"\",\"\",SUM(V12,Q12,L12,G12))","v":""},null,null,{"$f":"IF(Spielbericht!H16=\"\",\"\",Spielbericht!H16)","v":" "},{"$f":"IF(Spielbericht!H17=\"\",\"\",Spielbericht!H17)","v":" "},{"$f":"IF(Spielbericht!H18=\"\",\"\",Spielbericht!H18)","v":" "},{"$f":"IF(Spielbericht!H19=\"\",\"\",Spielbericht!H19)","v":" "},null,{"$f":"IF(Spielbericht!H25=\"\",\"\",Spielbericht!H25)","v":" "},{"$f":"IF(Spielbericht!H26=\"\",\"\",Spielbericht!H26)","v":" "},{"$f":"IF(Spielbericht!H27=\"\",\"\",Spielbericht!H27)","v":" "},{"$f":"IF(Spielbericht!H28=\"\",\"\",Spielbericht!H28)","v":" "},null,{"$f":"IF(Spielbericht!H34=\"\",\"\",Spielbericht!H34)","v":" "},{"$f":"IF(Spielbericht!H35=\"\",\"\",Spielbericht!H35)","v":" "},{"$f":"IF(Spielbericht!H36=\"\",\"\",Spielbericht!H36)","v":" "},{"$f":"IF(Spielbericht!H37=\"\",\"\",Spielbericht!H37)","v":" "},null,{"$f":"IF(Spielbericht!H43=\"\",\"\",Spielbericht!H43)","v":" "},{"$f":"IF(Spielbericht!H44=\"\",\"\",Spielbericht!H44)","v":" "},{"$f":"IF(Spielbericht!H45=\"\",\"\",Spielbericht!H45)","v":" "},{"$f":"IF(Spielbericht!H46=\"\",\"\",Spielbericht!H46)","v":" "}]
[{"$f":"IF(Spielbericht!G13=\"\",\"\",\"Platz\")","v":""},null,{"$f":"IF(Spielbericht!G13=\"\",\"\",RANK(D9,D3:D25,0))","v":""},null,{"$f":"IF(Spielbericht!$G$13=\"\",\"\",\"Kegel:\")","v":""},{"$f":"IF(Spielbericht!$G$13=\"\",\"\",\"Kegel:\")","v":""},{"$f":"IF(Spielbericht!$G$13=\"\",\"\",SUM(E10:H10))","v":""},null,null,{"$f":"IF(Spielbericht!$G$13=\"\",\"\",\"Kegel:\")","v":""},{"$f":"IF(Spielbericht!$G$13=\"\",\"\",\"Kegel:\")","v":""},{"$f":"IF(Spielbericht!$G$13=\"\",\"\",SUM(J10:M10))","v":""},null,null,{"$f":"IF(Spielbericht!$G$13=\"\",\"\",\"Kegel:\")","v":""},{"$f":"IF(Spielbericht!$G$13=\"\",\"\",\"Kegel:\")","v":""},{"$f":"IF(Spielbericht!$G$13=\"\",\"\",SUM(O10:R10))","v":""},null,null,{"$f":"IF(Spielbericht!$G$13=\"\",\"\",\"Kegel:\")","v":""},{"$f":"IF(Spielbericht!$G$13=\"\",\"\",\"Kegel:\")","v":""},{"$f":"IF(Spielbericht!$G$13=\"\",\"\",SUM(T10:W10))","v":""}]
[null,null,null,null,{"$f":"IF(Spielbericht!$G$13=\"\",\"\",\"Punkte:\")","v":""},null,{"$f":"IF(Spielbericht!$G$13=\"\",\"\",SUM(E11:H11))","v":""},null,null,{"$f":"IF(Spielbericht!$G$13=\"\",\"\",\"Punkte:\")","v":""},null,{"$f":"IF(Spielbericht!$G$13=\"\",\"\",SUM(J11:M11))","v":""},null,null,{"$f":"IF(Spielbericht!$G$13=\"\",\"\",\"Punkte:\")","v":""},null,{"$f":"IF(Spielbericht!$G$13=\"\",\"\",SUM(O11:R11))","v":""},null,null,{"$f":"IF(Spielbericht!$G$13=\"\",\"\",\"Punkte:\")","v":""},null,{"$f":"IF(Spielbericht!$G$13=\"\",\"\",SUM(T11:W11))","v":""}]
[]
[{"$f":"IF(Spielbericht!K13=\"\",\"\",Spielbericht!K13)","v":""},null,null,{"$f":"IF(Spielbericht!K13=\"\",0,C16+B17/10000)","v":0},{"$f":"IF(Spielbericht!K14=\"\",\"\",Spielbericht!K14)","v":""},null,null,null,null,{"$f":"IF(Spielbericht!K23=\"\",\"\",Spielbericht!K23)","v":""},null,null,null,null,{"$f":"IF(Spielbericht!K32=\"\",\"\",Spielbericht!K32)","v":""},null,null,null,null,{"$f":"IF(Spielbericht!K41=\"\",\"\",Spielbericht!K41)","v":""}]
[{"$f":"IF(Spielbericht!$K$13=\"\",\"\",\"Punkte:\")","v":""},null,{"$f":"IF(Spielbericht!K13=\"\",\"\",SUM(G19,L19,Q19,V19))","v":""},null,{"$f":"IF(Spielbericht!J16=\"\",\"\",Spielbericht!J16)","v":""},{"$f":"IF(Spielbericht!J17=\"\",\"\",Spielbericht!J17)","v":""},{"$f":"IF(Spielbericht!J18=\"\",\"\",Spielbericht!J18)","v":""},{"$f":"IF(Spielbericht!J19=\"\",\"\",Spielbericht!J19)","v":""},null,{"$f":"IF(Spielbericht!J25=\"\",\"\",Spielbericht!J25)","v":""},{"$f":"IF(Spielbericht!J26=\"\",\"\",Spielbericht!J26)","v":""},{"$f":"IF(Spielbericht!J27=\"\",\"\",Spielbericht!J27)","v":""},{"$f":"IF(Spielbericht!J28=\"\",\"\",Spielbericht!J28)","v":""},null,{"$f":"IF(Spielbericht!J34=\"\",\"\",Spielbericht!J34)","v":""},{"$f":"IF(Spielbericht!J35=\"\",\"\",Spielbericht!J35)","v":""},{"$f":"IF(Spielbericht!J36=\"\",\"\",Spielbericht!J36)","v":""},{"$f":"IF(Spielbericht!J37=\"\",\"\",Spielbericht!J37)","v":""},null,{"$f":"IF(Spielbericht!J43=\"\",\"\",Spielbericht!J43)","v":""},{"$f":"IF(Spielbericht!J44=\"\",\"\",Spielbericht!J44)","v":""},{"$f":"IF(Spielbericht!J45=\"\",\"\",Spielbericht!J45)","v":""},{"$f":"IF(Spielbericht!J46=\"\",\"\",Spielbericht!J46)","v":""}]
[{"$f":"IF(Spielbericht!$K$13=\"\",\"\",\"Kegel:\")","v":""},{"$f":"IF(Spielbericht!K13=\"\",\"\",SUM(V18,Q18,L18,G18))","v":""},null,null,{"$f":"IF(Spielbericht!L16=\"\",\"\",Spielbericht!L16)","v":" "},{"$f":"IF(Spielbericht!L17=\"\",\"\",Spielbericht!L17)","v":" "},{"$f":"IF(Spielbericht!L18=\"\",\"\",Spielbericht!L18)","v":" "},{"$f":"IF(Spielbericht!L19=\"\",\"\",Spielbericht!L19)","v":" "},null,{"$f":"IF(Spielbericht!L25=\"\",\"\",Spielbericht!L25)","v":" "},{"$f":"IF(Spielbericht!L26=\"\",\"\",Spielbericht!L26)","v":" "},{"$f":"IF(Spielbericht!L27=\"\",\"\",Spielbericht!L27)","v":" "},{"$f":"IF(Spielbericht!L28=\"\",\"\",Spielbericht!L28)","v":" "},null,{"$f":"IF(Spielbericht!L34=\"\",\"\",Spielbericht!L34)","v":" "},{"$f":"IF(Spielbericht!L35=\"\",\"\",Spielbericht!L35)","v":" "},{"$f":"IF(Spielbericht!L36=\"\",\"\",Spielbericht!L36)","v":" "},{"$f":"IF(Spielbericht!L37=\"\",\"\",Spielbericht!L37)","v":" "},null,{"$f":"IF(Spielbericht!L43=\"\",\"\",Spielbericht!L43)","v":" "},{"$f":"IF(Spielbericht!L44=\"\",\"\",Spielbericht!L44)","v":" "},{"$f":"IF(Spielbericht!L45=\"\",\"\",Spielbericht!L45)","v":" "},{"$f":"IF(Spielbericht!L46=\"\",\"\",Spielbericht!L46)","v":" "}]
[{"$f":"IF(Spielbericht!K13=\"\",\"\",\"Platz\")","v":""},null,{"$f":"IF(Spielbericht!K13=\"\",\"\",RANK(D15,D3:D25,0))","v":""},null,{"$f":"IF(Spielbericht!$K$13=\"\",\"\",\"Kegel:\")","v":""},{"$f":"IF(Spielbericht!$K$13=\"\",\"\",\"Kegel:\")","v":""},{"$f":"IF(Spielbericht!$K$13=\"\",\"\",SUM(E16:H16))","v":""},null,null,{"$f":"IF(Spielbericht!$K$13=\"\",\"\",\"Kegel:\")","v":""},{"$f":"IF(Spielbericht!$K$13=\"\",\"\",\"Kegel:\")","v":""},{"$f":"IF(Spielbericht!$K$13=\"\",\"\",SUM(J16:M16))","v":""},null,null,{"$f":"IF(Spielbericht!$K$13=\"\",\"\",\"Kegel:\")","v":""},{"$f":"IF(Spielbericht!$K$13=\"\",\"\",\"Kegel:\")","v":""},{"$f":"IF(Spielbericht!$K$13=\"\",\"\",SUM(O16:R16))","v":""},null,null,{"$f":"IF(Spielbericht!$K$13=\"\",\"\",\"Kegel:\")","v":""},{"$f":"IF(Spielbericht!$K$13=\"\",\"\",\"Kegel:\")","v":""},{"$f":"IF(Spielbericht!$K$13=\"\",\"\",SUM(T16:W16))","v":""}]
[null,null,null,null,{"$f":"IF(Spielbericht!$K$13=\"\",\"\",\"Punkte:\")","v":""},null,{"$f":"IF(Spielbericht!$K$13=\"\",\"\",SUM(E17:H17))","v":""},null,null,{"$f":"IF(Spielbericht!$K$13=\"\",\"\",\"Punkte:\")","v":""},null,{"$f":"IF(Spielbericht!$K$13=\"\",\"\",SUM(J17:M17))","v":""},null,null,{"$f":"IF(Spielbericht!$K$13=\"\",\"\",\"Punkte:\")","v":""},null,{"$f":"IF(Spielbericht!$K$13=\"\",\"\",SUM(O17:R17))","v":""},null,null,{"$f":"IF(Spielbericht!$K$13=\"\",\"\",\"Punkte:\")","v":""},null,{"$f":"IF(Spielbericht!$K$13=\"\",\"\",SUM(T17:W17))","v":""}]
[]
[{"$f":"IF(Spielbericht!O13=\"\",\"\",Spielbericht!O13)","v":""},null,null,{"$f":"IF(Spielbericht!O13=\"\",0,C22+B23/10000)","v":0},{"$f":"IF(Spielbericht!O14=\"\",\"\",Spielbericht!O14)","v":""},null,null,null,null,{"$f":"IF(Spielbericht!O23=\"\",\"\",Spielbericht!O23)","v":""},null,null,null,null,{"$f":"IF(Spielbericht!O32=\"\",\"\",Spielbericht!O32)","v":""},null,null,null,null,{"$f":"IF(Spielbericht!O41=\"\",\"\",Spielbericht!O41)","v":""}]
[{"$f":"IF(Spielbericht!$O$13=\"\",\"\",\"Punkte:\")","v":""},null,{"$f":"IF(Spielbericht!O13=\"\",\"\",SUM(G25,L25,Q25,V25))","v":""},null,{"$f":"IF(Spielbericht!N16=\"\",\"\",Spielbericht!N16)","v":""},{"$f":"IF(Spielbericht!N17=\"\",\"\",Spielbericht!N17)","v":""},{"$f":"IF(Spielbericht!N18=\"\",\"\",Spielbericht!N18)","v":""},{"$f":"IF(Spielbericht!N19=\"\",\"\",Spielbericht!N19)","v":""},null,{"$f":"IF(Spielbericht!N25=\"\",\"\",Spielbericht!N25)","v":""},{"$f":"IF(Spielbericht!N26=\"\",\"\",Spielbericht!N26)","v":""},{"$f":"IF(Spielbericht!N27=\"\",\"\",Spielbericht!N27)","v":""},{"$f":"IF(Spielbericht!N28=\"\",\"\",Spielbericht!N28)","v":""},null,{"$f":"IF(Spielbericht!N34=\"\",\"\",Spielbericht!N34)","v":""},{"$f":"IF(Spielbericht!N35=\"\",\"\",Spielbericht!N35)","v":""},{"$f":"IF(Spielbericht!N36=\"\",\"\",Spielbericht!N36)","v":""},{"$f":"IF(Spielbericht!N37=\"\",\"\",Spielbericht!N37)","v":""},null,{"$f":"IF(Spielbericht!N43=\"\",\"\",Spielbericht!N43)","v":""},{"$f":"IF(Spielbericht!N44=\"\",\"\",Spielbericht!N44)","v":""},{"$f":"IF(Spielbericht!N45=\"\",\"\",Spielbericht!N45)","v":""},{"$f":"IF(Spielbericht!N46=\"\",\"\",Spielbericht!N46)","v":""}]
[{"$f":"IF(Spielbericht!$O$13=\"\",\"\",\"Kegel:\")","v":""},{"$f":"IF(Spielbericht!O13=\"\",\"\",SUM(V24,Q24,L24,G24))","v":""},null,null,{"$f":"IF(Spielbericht!P16=\"\",\"\",Spielbericht!P16)","v":" "},{"$f":"IF(Spielbericht!P17=\"\",\"\",Spielbericht!P17)","v":" "},{"$f":"IF(Spielbericht!P18=\"\",\"\",Spielbericht!P18)","v":" "},{"$f":"IF(Spielbericht!P19=\"\",\"\",Spielbericht!P19)","v":" "},null,{"$f":"IF(Spielbericht!P25=\"\",\"\",Spielbericht!P25)","v":" "},{"$f":"IF(Spielbericht!P26=\"\",\"\",Spielbericht!P26)","v":" "},{"$f":"IF(Spielbericht!P27=\"\",\"\",Spielbericht!P27)","v":" "},{"$f":"IF(Spielbericht!P28=\"\",\"\",Spielbericht!P28)","v":" "},null,{"$f":"IF(Spielbericht!P34=\"\",\"\",Spielbericht!P34)","v":" "},{"$f":"IF(Spielbericht!P35=\"\",\"\",Spielbericht!P35)","v":" "},{"$f":"IF(Spielbericht!P36=\"\",\"\",Spielbericht!P36)","v":" "},{"$f":"IF(Spielbericht!P37=\"\",\"\",Spielbericht!P37)","v":" "},null,{"$f":"IF(Spielbericht!P43=\"\",\"\",Spielbericht!P43)","v":" "},{"$f":"IF(Spielbericht!P44=\"\",\"\",Spielbericht!P44)","v":" "},{"$f":"IF(Spielbericht!P45=\"\",\"\",Spielbericht!P45)","v":" "},{"$f":"IF(Spielbericht!P46=\"\",\"\",Spielbericht!P46)","v":" "}]
[{"$f":"IF(Spielbericht!O13=\"\",\"\",\"Platz\")","v":""},null,{"$f":"IF(Spielbericht!O13=\"\",\"\",RANK(D21,D3:D25,0))","v":""},null,{"$f":"IF(Spielbericht!$O$13=\"\",\"\",\"Kegel:\")","v":""},{"$f":"IF(Spielbericht!$Q$13=\"\",\"\",\"Kegel:\")","v":""},{"$f":"IF(Spielbericht!$O$13=\"\",\"\",SUM(E22:H22))","v":""},null,null,{"$f":"IF(Spielbericht!$O$13=\"\",\"\",\"Kegel:\")","v":""},{"$f":"IF(Spielbericht!$Q$13=\"\",\"\",\"Kegel:\")","v":""},{"$f":"IF(Spielbericht!$O$13=\"\",\"\",SUM(J22:M22))","v":""},null,null,{"$f":"IF(Spielbericht!$O$13=\"\",\"\",\"Kegel:\")","v":""},{"$f":"IF(Spielbericht!$Q$13=\"\",\"\",\"Kegel:\")","v":""},{"$f":"IF(Spielbericht!$O$13=\"\",\"\",SUM(O22:R22))","v":""},null,null,{"$f":"IF(Spielbericht!$O$13=\"\",\"\",\"Kegel:\")","v":""},{"$f":"IF(Spielbericht!$Q$13=\"\",\"\",\"Kegel:\")","v":""},{"$f":"IF(Spielbericht!$O$13=\"\",\"\",SUM(T22:W22))","v":""}]
[null,null,null,null,{"$f":"IF(Spielbericht!$O$13=\"\",\"\",\"Punkte:\")","v":""},null,{"$f":"IF(Spielbericht!$O$13=\"\",\"\",SUM(E23:H23))","v":""},null,null,{"$f":"IF(Spielbericht!$O$13=\"\",\"\",\"Punkte:\")","v":""},null,{"$f":"IF(Spielbericht!$O$13=\"\",\"\",SUM(J23:M23))","v":""},null,null,{"$f":"IF(Spielbericht!$O$13=\"\",\"\",\"Punkte:\")","v":""},null,{"$f":"IF(Spielbericht!$O$13=\"\",\"\",SUM(O23:R23))","v":""},null,null,{"$f":"IF(Spielbericht!$O$13=\"\",\"\",\"Punkte:\")","v":""},null,{"$f":"IF(Spielbericht!$O$13=\"\",\"\",SUM(T23:W23))","v":""}]